Package: factR Version: 1.10.0 Command: rm -rf factR.buildbin-libdir && mkdir factR.buildbin-libdir && /Users/biocbuild/BBS/utils/build-universal.sh factR_1.10.0.tar.gz /Library/Frameworks/R.framework/Resources/bin/R factR.buildbin-libdir StartedAt: 2025-04-21 22:35:00 -0400 (Mon, 21 Apr 2025) EndedAt: 2025-04-21 22:35:05 -0400 (Mon, 21 Apr 2025) EllapsedTime: 5.2 seconds RetCode: 0 Status: OK PackageFile: factR_1.10.0.tgz PackageFileSize: 1.929 MiB