Package: factR Version: 1.10.0 Command: /Library/Frameworks/R.framework/Resources/bin/R CMD check --install=check:factR.install-out.txt --library=/Library/Frameworks/R.framework/Resources/library --no-vignettes --timings factR_1.10.0.tar.gz StartedAt: 2025-05-06 19:46:17 -0400 (Tue, 06 May 2025) EndedAt: 2025-05-06 19:48:39 -0400 (Tue, 06 May 2025) EllapsedTime: 142.2 seconds RetCode: 0 Status: OK CheckDir: factR.Rcheck Warnings: 0