Package: factR Version: 1.10.0 Command: rm -rf factR.buildbin-libdir && mkdir factR.buildbin-libdir && /Users/biocbuild/BBS/utils/build-universal.sh factR_1.10.0.tar.gz /Library/Frameworks/R.framework/Resources/bin/R factR.buildbin-libdir StartedAt: 2025-05-07 15:46:20 -0400 (Wed, 07 May 2025) EndedAt: 2025-05-07 15:46:33 -0400 (Wed, 07 May 2025) EllapsedTime: 12.6 seconds RetCode: 0 Status: OK PackageFile: factR_1.10.0.tgz PackageFileSize: 1.928 MiB