Package: factDesign Version: 1.84.0 Maintainer: Denise Scholtens MaintainerEmail: dscholtens at northwestern.edu git_url: https://git.bioconductor.org/packages/factDesign git_branch: RELEASE_3_21 git_last_commit: 0026802 git_last_commit_date: 2025-04-15 09:16:58 -0400 (Tue, 15 Apr 2025)