Package: fCI Version: 1.36.0 Command: /home/biocbuild/R/R/bin/R CMD check --install=check:fCI.install-out.txt --library=/home/biocbuild/R/R/site-library --no-vignettes --timings fCI_1.36.0.tar.gz StartedAt: 2025-01-31 06:13:47 -0000 (Fri, 31 Jan 2025) EndedAt: 2025-01-31 06:14:25 -0000 (Fri, 31 Jan 2025) EllapsedTime: 38.0 seconds RetCode: 0 Status: WARNINGS CheckDir: fCI.Rcheck Warnings: 1