Package: fCCAC Version: 1.34.0 Command: chmod a+r fCCAC -R && E:\biocbuild\bbs-3.21-bioc\R\bin\R.exe CMD build --keep-empty-dirs --no-resave-data fCCAC StartedAt: 2025-08-14 19:03:59 -0400 (Thu, 14 Aug 2025) EndedAt: 2025-08-14 19:04:47 -0400 (Thu, 14 Aug 2025) EllapsedTime: 48.2 seconds RetCode: 0 Status: OK PackageFile: fCCAC_1.34.0.tar.gz PackageFileSize: 3.495 MiB