Package: fCCAC Version: 1.34.0 Maintainer: Pedro Madrigal MaintainerEmail: pmadrigal at ebi.ac.uk git_url: https://git.bioconductor.org/packages/fCCAC git_branch: RELEASE_3_21 git_last_commit: 009c87b git_last_commit_date: 2025-04-15 11:06:56 -0400 (Tue, 15 Apr 2025)