Package: extraChIPs Version: 1.10.0 Command: /home/biocbuild/R/R/bin/R CMD INSTALL extraChIPs StartedAt: 2025-01-30 20:46:07 -0000 (Thu, 30 Jan 2025) EndedAt: 2025-01-30 20:47:18 -0000 (Thu, 30 Jan 2025) EllapsedTime: 70.9 seconds RetCode: 0 Status: OK