Package: evaluomeR Version: 1.24.0 Command: /home/biocbuild/R/R/bin/R CMD INSTALL evaluomeR StartedAt: 2025-05-08 20:53:14 -0000 (Thu, 08 May 2025) EndedAt: 2025-05-08 20:54:08 -0000 (Thu, 08 May 2025) EllapsedTime: 53.7 seconds RetCode: 0 Status: OK