Package: evaluomeR Version: 1.24.0 Command: /home/biocbuild/R/R/bin/R CMD check --install=check:evaluomeR.install-out.txt --library=/home/biocbuild/R/R/site-library --no-vignettes --timings evaluomeR_1.24.0.tar.gz StartedAt: 2025-05-13 08:31:31 -0000 (Tue, 13 May 2025) EndedAt: 2025-05-13 08:37:59 -0000 (Tue, 13 May 2025) EllapsedTime: 388.4 seconds RetCode: 0 Status: WARNINGS CheckDir: evaluomeR.Rcheck Warnings: 3