Package: evaluomeR Version: 1.24.0 Command: /home/biocbuild/R/R/bin/R CMD build --keep-empty-dirs --no-resave-data evaluomeR StartedAt: 2025-05-13 00:34:25 -0000 (Tue, 13 May 2025) EndedAt: 2025-05-13 00:35:55 -0000 (Tue, 13 May 2025) EllapsedTime: 90.0 seconds RetCode: 0 Status: OK PackageFile: evaluomeR_1.24.0.tar.gz PackageFileSize: 1.057 MiB