Package: evaluomeR Version: 1.24.0 Command: /Library/Frameworks/R.framework/Resources/bin/R CMD check --install=check:evaluomeR.install-out.txt --library=/Library/Frameworks/R.framework/Resources/library --no-vignettes --timings evaluomeR_1.24.0.tar.gz StartedAt: 2025-04-21 19:21:09 -0400 (Mon, 21 Apr 2025) EndedAt: 2025-04-21 19:23:03 -0400 (Mon, 21 Apr 2025) EllapsedTime: 113.3 seconds RetCode: 0 Status: WARNINGS CheckDir: evaluomeR.Rcheck Warnings: 3