Package: eudysbiome Version: 1.36.0 Command: /home/biocbuild/R/R/bin/R CMD build --keep-empty-dirs --no-resave-data eudysbiome StartedAt: 2025-02-10 23:20:26 -0000 (Mon, 10 Feb 2025) EndedAt: 2025-02-10 23:20:47 -0000 (Mon, 10 Feb 2025) EllapsedTime: 21.0 seconds RetCode: 0 Status: OK PackageFile: eudysbiome_1.36.0.tar.gz PackageFileSize: 4.369 MiB