Package: esetVis Version: 1.32.0 Command: /home/biocbuild/R/R/bin/R CMD INSTALL esetVis StartedAt: 2025-01-30 20:22:49 -0000 (Thu, 30 Jan 2025) EndedAt: 2025-01-30 20:23:08 -0000 (Thu, 30 Jan 2025) EllapsedTime: 19.6 seconds RetCode: 0 Status: OK