Package: esetVis Version: 1.32.0 Command: /home/biocbuild/R/R/bin/R CMD build --keep-empty-dirs --no-resave-data esetVis StartedAt: 2025-01-30 23:32:04 -0000 (Thu, 30 Jan 2025) EndedAt: 2025-01-30 23:35:06 -0000 (Thu, 30 Jan 2025) EllapsedTime: 182.1 seconds RetCode: 0 Status: OK PackageFile: esetVis_1.32.0.tar.gz PackageFileSize: 3.011 MiB