Package: esetVis Version: 1.34.0 Command: /Library/Frameworks/R.framework/Resources/bin/R CMD build --keep-empty-dirs --no-resave-data esetVis StartedAt: 2025-10-13 18:58:07 -0400 (Mon, 13 Oct 2025) EndedAt: 2025-10-13 19:00:57 -0400 (Mon, 13 Oct 2025) EllapsedTime: 170.0 seconds RetCode: 0 Status: OK PackageFile: esetVis_1.34.0.tar.gz PackageFileSize: 4.33 MiB