Package: escheR Version: 1.8.0 Command: rm -rf escheR.buildbin-libdir && mkdir escheR.buildbin-libdir && /Users/biocbuild/BBS/utils/build-universal.sh escheR_1.8.0.tar.gz /Library/Frameworks/R.framework/Resources/bin/R escheR.buildbin-libdir StartedAt: 2025-05-06 12:35:13 -0400 (Tue, 06 May 2025) EndedAt: 2025-05-06 12:36:14 -0400 (Tue, 06 May 2025) EllapsedTime: 60.6 seconds RetCode: 0 Status: OK PackageFile: escheR_1.8.0.tgz PackageFileSize: 3.562 MiB