Package: escheR Version: 1.8.0 Maintainer: Boyi Guo MaintainerEmail: boyi.guo.work at gmail.com git_url: https://git.bioconductor.org/packages/escheR git_branch: RELEASE_3_21 git_last_commit: 8df0b7e git_last_commit_date: 2025-04-15 13:12:33 -0400 (Tue, 15 Apr 2025)