Package: escape Version: 2.4.0 Command: /Library/Frameworks/R.framework/Resources/bin/R CMD build --keep-empty-dirs --no-resave-data escape StartedAt: 2025-04-24 19:40:05 -0400 (Thu, 24 Apr 2025) EndedAt: 2025-04-24 19:50:55 -0400 (Thu, 24 Apr 2025) EllapsedTime: 650.2 seconds RetCode: 0 Status: OK PackageFile: escape_2.4.0.tar.gz PackageFileSize: 2.194 MiB