Package: escape Version: 2.2.3 Command: rm -rf escape.buildbin-libdir && mkdir escape.buildbin-libdir && /Users/biocbuild/BBS/utils/build-universal.sh escape_2.2.3.tar.gz /Library/Frameworks/R.framework/Resources/bin/R escape.buildbin-libdir StartedAt: 2025-01-31 12:46:29 -0500 (Fri, 31 Jan 2025) EndedAt: 2025-01-31 12:48:03 -0500 (Fri, 31 Jan 2025) EllapsedTime: 93.3 seconds RetCode: 0 Status: OK PackageFile: escape_2.2.3.tgz PackageFileSize: 1.756 MiB