Package: escape Version: 2.4.0 Command: /Library/Frameworks/R.framework/Resources/bin/R CMD check --install=check:escape.install-out.txt --library=/Library/Frameworks/R.framework/Resources/library --no-vignettes --timings escape_2.4.0.tar.gz StartedAt: 2025-04-21 20:37:34 -0400 (Mon, 21 Apr 2025) EndedAt: 2025-04-21 20:48:17 -0400 (Mon, 21 Apr 2025) EllapsedTime: 643.1 seconds RetCode: 0 Status: OK CheckDir: escape.Rcheck Warnings: 0