Package: escape Version: 2.4.0 Command: /home/biocbuild/R/R/bin/R CMD INSTALL escape StartedAt: 2025-05-05 21:13:02 -0000 (Mon, 05 May 2025) EndedAt: 2025-05-05 21:14:02 -0000 (Mon, 05 May 2025) EllapsedTime: 60.3 seconds RetCode: 0 Status: OK