Package: escape Version: 2.4.0 Command: /Library/Frameworks/R.framework/Resources/bin/R CMD build --keep-empty-dirs --no-resave-data escape StartedAt: 2025-04-21 16:18:52 -0400 (Mon, 21 Apr 2025) EndedAt: 2025-04-21 16:20:28 -0400 (Mon, 21 Apr 2025) EllapsedTime: 96.1 seconds RetCode: 0 Status: OK PackageFile: escape_2.4.0.tar.gz PackageFileSize: 2.194 MiB