Package: escape Version: 2.4.0 Command: /Library/Frameworks/R.framework/Resources/bin/R CMD INSTALL escape StartedAt: 2025-05-05 18:09:15 -0400 (Mon, 05 May 2025) EndedAt: 2025-05-05 18:10:06 -0400 (Mon, 05 May 2025) EllapsedTime: 51.1 seconds RetCode: 0 Status: OK