Package: escape Version: 2.4.0 Command: /Library/Frameworks/R.framework/Resources/bin/R CMD build --keep-empty-dirs --no-resave-data escape StartedAt: 2025-05-08 23:46:34 -0400 (Thu, 08 May 2025) EndedAt: 2025-05-08 23:51:12 -0400 (Thu, 08 May 2025) EllapsedTime: 278.4 seconds RetCode: 0 Status: OK PackageFile: escape_2.4.0.tar.gz PackageFileSize: 2.196 MiB