Package: esATAC Version: 1.28.0 Command: /home/biocbuild/R/R/bin/R CMD check --install=check:esATAC.install-out.txt --library=/home/biocbuild/R/R/site-library --no-vignettes --timings esATAC_1.28.0.tar.gz StartedAt: 2025-01-31 06:07:39 -0000 (Fri, 31 Jan 2025) EndedAt: 2025-01-31 06:16:33 -0000 (Fri, 31 Jan 2025) EllapsedTime: 533.7 seconds RetCode: 0 Status: OK CheckDir: esATAC.Rcheck Warnings: 0