Package: esATAC Version: 1.30.0 Command: /home/biocbuild/bbs-3.21-bioc/R/bin/R CMD build --keep-empty-dirs --no-resave-data esATAC StartedAt: 2025-09-28 17:40:37 -0400 (Sun, 28 Sep 2025) EndedAt: 2025-09-28 17:42:04 -0400 (Sun, 28 Sep 2025) EllapsedTime: 87.3 seconds RetCode: 0 Status: OK PackageFile: esATAC_1.30.0.tar.gz PackageFileSize: 9.863 MiB