Package: esATAC Version: 1.30.0 Maintainer: Zheng Wei MaintainerEmail: wzweizheng at qq.com git_url: https://git.bioconductor.org/packages/esATAC git_branch: RELEASE_3_21 git_last_commit: b2a7f51 git_last_commit_date: 2025-04-15 11:16:14 -0400 (Tue, 15 Apr 2025)