############################################################################## ############################################################################## ### ### Running command: ### ### /home/biocbuild/R/R/bin/R CMD build --keep-empty-dirs --no-resave-data erma ### ############################################################################## ############################################################################## * checking for file ‘erma/DESCRIPTION’ ... OK * preparing ‘erma’: * checking DESCRIPTION meta-information ... OK * installing the package to process help pages * saving partial Rd database * creating vignettes ...