Package: erccdashboard Version: 1.40.0 Command: /home/biocbuild/R/R/bin/R CMD check --install=check:erccdashboard.install-out.txt --library=/home/biocbuild/R/R/site-library --no-vignettes --timings erccdashboard_1.40.0.tar.gz StartedAt: 2025-01-31 06:07:24 -0000 (Fri, 31 Jan 2025) EndedAt: 2025-01-31 06:08:32 -0000 (Fri, 31 Jan 2025) EllapsedTime: 68.1 seconds RetCode: 0 Status: OK CheckDir: erccdashboard.Rcheck Warnings: 0