Package: erccdashboard Version: 1.42.0 Command: chmod a+r erccdashboard -R && E:\biocbuild\bbs-3.21-bioc\R\bin\R.exe CMD build --keep-empty-dirs --no-resave-data erccdashboard StartedAt: 2025-08-14 18:56:34 -0400 (Thu, 14 Aug 2025) EndedAt: 2025-08-14 19:07:43 -0400 (Thu, 14 Aug 2025) EllapsedTime: 669.7 seconds RetCode: 0 Status: OK PackageFile: erccdashboard_1.42.0.tar.gz PackageFileSize: 1.675 MiB