Package: epivizrServer Version: 1.34.0 Command: /home/biocbuild/R/R/bin/R CMD check --install=check:epivizrServer.install-out.txt --library=/home/biocbuild/R/R/site-library --no-vignettes --timings epivizrServer_1.34.0.tar.gz StartedAt: 2025-01-31 06:06:52 -0000 (Fri, 31 Jan 2025) EndedAt: 2025-01-31 06:07:24 -0000 (Fri, 31 Jan 2025) EllapsedTime: 32.0 seconds RetCode: 0 Status: OK CheckDir: epivizrServer.Rcheck Warnings: 0