Package: epivizrServer Version: 1.34.0 Command: chmod a+r epivizrServer -R && F:\biocbuild\bbs-3.20-bioc\R\bin\R.exe CMD build --keep-empty-dirs --no-resave-data epivizrServer StartedAt: 2025-01-02 18:50:50 -0500 (Thu, 02 Jan 2025) EndedAt: 2025-01-02 18:51:11 -0500 (Thu, 02 Jan 2025) EllapsedTime: 21.0 seconds RetCode: 0 Status: OK PackageFile: epivizrServer_1.34.0.tar.gz PackageFileSize: 230 KiB