Package: epivizrServer Version: 1.36.0 Maintainer: Hector Corrada Bravo MaintainerEmail: hcorrada at gmail.com git_url: https://git.bioconductor.org/packages/epivizrServer git_branch: RELEASE_3_21 git_last_commit: b74c098 git_last_commit_date: 2025-04-15 11:01:38 -0400 (Tue, 15 Apr 2025)