Package: epivizrChart Version: 1.28.0 Command: /home/biocbuild/R/R/bin/R CMD check --install=check:epivizrChart.install-out.txt --library=/home/biocbuild/R/R/site-library --no-vignettes --timings epivizrChart_1.28.0.tar.gz StartedAt: 2025-01-31 06:05:51 -0000 (Fri, 31 Jan 2025) EndedAt: 2025-01-31 06:11:54 -0000 (Fri, 31 Jan 2025) EllapsedTime: 362.5 seconds RetCode: 0 Status: OK CheckDir: epivizrChart.Rcheck Warnings: 0