Package: epivizr Version: 2.38.0 Command: chmod a+r epivizr -R && E:\biocbuild\bbs-3.21-bioc\R\bin\R.exe CMD build --keep-empty-dirs --no-resave-data epivizr StartedAt: 2025-08-14 18:54:03 -0400 (Thu, 14 Aug 2025) EndedAt: 2025-08-14 18:55:24 -0400 (Thu, 14 Aug 2025) EllapsedTime: 81.8 seconds RetCode: 0 Status: OK PackageFile: epivizr_2.38.0.tar.gz PackageFileSize: 1.139 MiB