Package: epistasisGA Version: 1.8.0 Command: /home/biocbuild/R/R/bin/R CMD INSTALL epistasisGA StartedAt: 2025-01-30 20:48:55 -0000 (Thu, 30 Jan 2025) EndedAt: 2025-01-30 20:50:02 -0000 (Thu, 30 Jan 2025) EllapsedTime: 66.7 seconds RetCode: 0 Status: OK