Package: epistasisGA Version: 1.10.0 Command: rm -rf epistasisGA.buildbin-libdir && mkdir epistasisGA.buildbin-libdir && /Users/biocbuild/BBS/utils/build-universal.sh epistasisGA_1.10.0.tar.gz /Library/Frameworks/R.framework/Resources/bin/R epistasisGA.buildbin-libdir StartedAt: 2025-04-22 00:44:30 -0400 (Tue, 22 Apr 2025) EndedAt: 2025-04-22 00:45:22 -0400 (Tue, 22 Apr 2025) EllapsedTime: 52.0 seconds RetCode: 0 Status: OK PackageFile: epistasisGA_1.10.0.tgz PackageFileSize: 2.409 MiB