Package: epistack Version: 1.14.0 Command: /Library/Frameworks/R.framework/Resources/bin/R CMD INSTALL epistack StartedAt: 2025-05-08 16:17:58 -0400 (Thu, 08 May 2025) EndedAt: 2025-05-08 16:18:22 -0400 (Thu, 08 May 2025) EllapsedTime: 24.4 seconds RetCode: 0 Status: OK