Package: epistack Version: 1.14.0 Command: rm -rf epistack.buildbin-libdir && mkdir epistack.buildbin-libdir && /Users/biocbuild/BBS/utils/build-universal.sh epistack_1.14.0.tar.gz /Library/Frameworks/R.framework/Resources/bin/R epistack.buildbin-libdir StartedAt: 2025-05-14 14:55:30 -0400 (Wed, 14 May 2025) EndedAt: 2025-05-14 14:55:58 -0400 (Wed, 14 May 2025) EllapsedTime: 28.6 seconds RetCode: 0 Status: OK PackageFile: epistack_1.14.0.tgz PackageFileSize: 2.169 MiB