Package: epiregulon.extra Version: 1.2.0 Command: /home/biocbuild/R/R/bin/R CMD INSTALL epiregulon.extra StartedAt: 2025-01-30 21:01:13 -0000 (Thu, 30 Jan 2025) EndedAt: 2025-01-30 21:01:43 -0000 (Thu, 30 Jan 2025) EllapsedTime: 30.6 seconds RetCode: 0 Status: OK