Package: epimutacions Version: 1.12.0 Command: /Library/Frameworks/R.framework/Resources/bin/R CMD check --install=check:epimutacions.install-out.txt --library=/Library/Frameworks/R.framework/Resources/library --no-vignettes --timings epimutacions_1.12.0.tar.gz StartedAt: 2025-04-21 19:17:48 -0400 (Mon, 21 Apr 2025) EndedAt: 2025-04-21 19:20:28 -0400 (Mon, 21 Apr 2025) EllapsedTime: 159.7 seconds RetCode: 0 Status: OK CheckDir: epimutacions.Rcheck Warnings: 0