Package: epimutacions Version: 1.12.0 Maintainer: Dolors Pelegri-Siso MaintainerEmail: dolors.pelegri at isglobal.org git_url: https://git.bioconductor.org/packages/epimutacions git_branch: RELEASE_3_21 git_last_commit: 148d72e git_last_commit_date: 2025-04-15 12:49:38 -0400 (Tue, 15 Apr 2025)