Package: epialleleR Version: 1.14.0 Command: /home/biocbuild/R/R/bin/R CMD INSTALL epialleleR StartedAt: 2025-01-30 20:14:44 -0000 (Thu, 30 Jan 2025) EndedAt: 2025-01-30 20:16:24 -0000 (Thu, 30 Jan 2025) EllapsedTime: 99.7 seconds RetCode: 0 Status: OK