Package: epialleleR Version: 1.14.0 Command: /home/biocbuild/bbs-3.20-bioc/R/bin/R CMD INSTALL epialleleR StartedAt: 2025-01-30 15:10:23 -0500 (Thu, 30 Jan 2025) EndedAt: 2025-01-30 15:11:27 -0500 (Thu, 30 Jan 2025) EllapsedTime: 64.0 seconds RetCode: 0 Status: OK