Package: epialleleR Version: 1.14.0 Command: /home/biocbuild/bbs-3.20-bioc/R/bin/R CMD build --keep-empty-dirs --no-resave-data --md5 epialleleR StartedAt: 2025-02-03 17:19:05 -0500 (Mon, 03 Feb 2025) EndedAt: 2025-02-03 17:20:46 -0500 (Mon, 03 Feb 2025) EllapsedTime: 101.1 seconds RetCode: 0 Status: OK PackageFile: epialleleR_1.14.0.tar.gz PackageFileSize: 3.599 MiB