Package: epialleleR Version: 1.14.0 Command: /Library/Frameworks/R.framework/Resources/bin/R CMD build --keep-empty-dirs --no-resave-data epialleleR StartedAt: 2025-01-30 18:54:56 -0500 (Thu, 30 Jan 2025) EndedAt: 2025-01-30 18:59:06 -0500 (Thu, 30 Jan 2025) EllapsedTime: 249.9 seconds RetCode: 0 Status: OK PackageFile: epialleleR_1.14.0.tar.gz PackageFileSize: 3.795 MiB