Package: epialleleR Version: 1.14.0 Command: rm -rf epialleleR.buildbin-libdir && mkdir epialleleR.buildbin-libdir && /Users/biocbuild/BBS/utils/build-universal.sh epialleleR_1.14.0.tar.gz /Library/Frameworks/R.framework/Resources/bin/R epialleleR.buildbin-libdir StartedAt: 2025-01-31 12:45:08 -0500 (Fri, 31 Jan 2025) EndedAt: 2025-01-31 12:47:23 -0500 (Fri, 31 Jan 2025) EllapsedTime: 135.4 seconds RetCode: 0 Status: OK PackageFile: epialleleR_1.14.0.tgz PackageFileSize: 4.387 MiB