Package: epialleleR Version: 1.16.0 Command: /Library/Frameworks/R.framework/Resources/bin/R CMD INSTALL epialleleR StartedAt: 2025-04-21 15:28:43 -0400 (Mon, 21 Apr 2025) EndedAt: 2025-04-21 15:29:55 -0400 (Mon, 21 Apr 2025) EllapsedTime: 72.5 seconds RetCode: 0 Status: OK