Package: epialleleR Version: 1.16.0 Command: /Library/Frameworks/R.framework/Resources/bin/R CMD build --keep-empty-dirs --no-resave-data epialleleR StartedAt: 2025-04-21 16:42:45 -0400 (Mon, 21 Apr 2025) EndedAt: 2025-04-21 16:44:33 -0400 (Mon, 21 Apr 2025) EllapsedTime: 107.4 seconds RetCode: 0 Status: OK PackageFile: epialleleR_1.16.0.tar.gz PackageFileSize: 3.796 MiB